BEGIN:VCALENDAR
VERSION:2.0
PRODID:-//Sharon Church Dubai - ECPv6.2.4//NONSGML v1.0//EN
CALSCALE:GREGORIAN
METHOD:PUBLISH
X-WR-CALNAME:Sharon Church Dubai
X-ORIGINAL-URL:https://sharonchurchdubai.com
X-WR-CALDESC:Events for Sharon Church Dubai
REFRESH-INTERVAL;VALUE=DURATION:PT1H
X-Robots-Tag:noindex
X-PUBLISHED-TTL:PT1H
BEGIN:VTIMEZONE
TZID:UTC
BEGIN:STANDARD
TZOFFSETFROM:+0000
TZOFFSETTO:+0000
TZNAME:UTC
DTSTART:20220101T000000
END:STANDARD
END:VTIMEZONE
BEGIN:VEVENT
DTSTART;TZID=UTC:20220708T183000
DTEND;TZID=UTC:20220708T223000
DTSTAMP:20260423T041837
CREATED:20220705T055851Z
LAST-MODIFIED:20220705T062350Z
UID:3512-1657305000-1657319400@sharonchurchdubai.com
SUMMARY:Holy Harp 2022 - Musical Evening
DESCRIPTION:
URL:https://sharonchurchdubai.com/event/holy-harp-2022-musical-evening/
ATTACH;FMTTYPE=image/jpeg:https://sharonchurchdubai.com/wp-content/uploads/2022/07/WhatsApp-Image-2022-07-05-at-1.55.28-AM.jpeg
END:VEVENT
BEGIN:VEVENT
DTSTART;VALUE=DATE:20220702
DTEND;VALUE=DATE:20220703
DTSTAMP:20260423T041837
CREATED:20220529T135808Z
LAST-MODIFIED:20220529T135808Z
UID:2733-1656720000-1656806399@sharonchurchdubai.com
SUMMARY:Mid Term General Body
DESCRIPTION:
URL:https://sharonchurchdubai.com/event/mid-term-general-body/
END:VEVENT
BEGIN:VEVENT
DTSTART;VALUE=DATE:20220619
DTEND;VALUE=DATE:20220627
DTSTAMP:20260423T041837
CREATED:20220613T091314Z
LAST-MODIFIED:20220613T091314Z
UID:3065-1655596800-1656287999@sharonchurchdubai.com
SUMMARY:Charity Week
DESCRIPTION:
URL:https://sharonchurchdubai.com/event/charity-week/
END:VEVENT
BEGIN:VEVENT
DTSTART;VALUE=DATE:20220618
DTEND;VALUE=DATE:20220619
DTSTAMP:20260423T041837
CREATED:20220528T155437Z
LAST-MODIFIED:20220528T160917Z
UID:2666-1655510400-1655596799@sharonchurchdubai.com
SUMMARY:CEM Seminar
DESCRIPTION:
URL:https://sharonchurchdubai.com/event/cem-seminar/
END:VEVENT
END:VCALENDAR