BEGIN:VCALENDAR
VERSION:2.0
PRODID:-//Sharon Church Dubai - ECPv6.2.4//NONSGML v1.0//EN
CALSCALE:GREGORIAN
METHOD:PUBLISH
X-ORIGINAL-URL:https://sharonchurchdubai.com
X-WR-CALDESC:Events for Sharon Church Dubai
REFRESH-INTERVAL;VALUE=DURATION:PT1H
X-Robots-Tag:noindex
X-PUBLISHED-TTL:PT1H
BEGIN:VTIMEZONE
TZID:UTC
BEGIN:STANDARD
TZOFFSETFROM:+0000
TZOFFSETTO:+0000
TZNAME:UTC
DTSTART:20230101T000000
END:STANDARD
END:VTIMEZONE
BEGIN:VEVENT
DTSTART;VALUE=DATE:20230128
DTEND;VALUE=DATE:20230129
DTSTAMP:20260422T231532
CREATED:20220528T155344Z
LAST-MODIFIED:20220529T135708Z
UID:2664-1674864000-1674950399@sharonchurchdubai.com
SUMMARY:Church Anniversary
DESCRIPTION:
URL:https://sharonchurchdubai.com/event/church-anniversary/
END:VEVENT
END:VCALENDAR